BEGIN:VCALENDAR
VERSION:2.0
PRODID:icalendar-ruby
CALSCALE:GREGORIAN
METHOD:PUBLISH
BEGIN:VEVENT
DTSTAMP:20260424T232326Z
UID:9dcb3db9-d212-4a33-94af-ee5f1c50ae8a
DTSTART;VALUE=DATE:20190710
DTEND;VALUE=DATE:20190710
DESCRIPTION:North Shore BMX
LOCATION:1301 Lillooet Road  North Vancouver BC V7J 3T7 CAN
SUMMARY:Local Race Single
URL:/site/bmx_races/408325
END:VEVENT
END:VCALENDAR
