BEGIN:VCALENDAR
VERSION:2.0
PRODID:icalendar-ruby
CALSCALE:GREGORIAN
METHOD:PUBLISH
BEGIN:VEVENT
DTSTAMP:20260423T032831Z
UID:1477e160-1aa6-4d2c-9dee-494f1002ad29
DTSTART;VALUE=DATE:20190825
DTEND;VALUE=DATE:20190825
DESCRIPTION:River City BMX
LOCATION:251 Ne Agness  Grants Pass OR 97526 USA
SUMMARY:Final Triple
URL:/site/bmx_races/408691
END:VEVENT
END:VCALENDAR
