BEGIN:VCALENDAR
VERSION:2.0
PRODID:icalendar-ruby
CALSCALE:GREGORIAN
METHOD:PUBLISH
BEGIN:VEVENT
DTSTAMP:20260419T141254Z
UID:2f91cfe4-dc3d-449f-95da-2b6ae975b149
DTSTART;VALUE=DATE:20190818
DTEND;VALUE=DATE:20190818
DESCRIPTION:Blue Springs BMX
LOCATION:2715 Nw Park Drive  Blue Springs MO 64015 USA
SUMMARY:Final Triple
URL:/site/bmx_races/408693
END:VEVENT
END:VCALENDAR
