BEGIN:VCALENDAR
VERSION:2.0
PRODID:icalendar-ruby
CALSCALE:GREGORIAN
METHOD:PUBLISH
BEGIN:VEVENT
DTSTAMP:20260423T013407Z
UID:661fe527-ae92-48c5-87be-5db389db81dd
DTSTART;VALUE=DATE:20190524
DTEND;VALUE=DATE:20190524
DESCRIPTION:Imagination Glen BMX
LOCATION:2190 N State Rd 149  Portage IN 46304 USA
SUMMARY:Practice
URL:/site/bmx_races/409395
END:VEVENT
END:VCALENDAR
