BEGIN:VCALENDAR
VERSION:2.0
PRODID:icalendar-ruby
CALSCALE:GREGORIAN
METHOD:PUBLISH
BEGIN:VEVENT
DTSTAMP:20260423T000727Z
UID:bf136772-31b5-4e55-91d9-bb098ae471db
DTSTART;VALUE=DATE:20190629
DTEND;VALUE=DATE:20190629
DESCRIPTION:Imagination Glen BMX
LOCATION:2190 N State Rd 149  Portage IN 46304 USA
SUMMARY:Standard Single Single
URL:/site/bmx_races/409411
END:VEVENT
END:VCALENDAR
