BEGIN:VCALENDAR
VERSION:2.0
PRODID:icalendar-ruby
CALSCALE:GREGORIAN
METHOD:PUBLISH
BEGIN:VEVENT
DTSTAMP:20260423T030957Z
UID:227240c5-d36c-4a44-a4c0-84bc3167a63e
DTSTART;VALUE=DATE:20190608
DTEND;VALUE=DATE:20190608
DESCRIPTION:Circle City BMX
LOCATION:Westgate Park    100 Recreation Rd Dothan AL 36305 USA
SUMMARY:Earned Double
URL:/site/bmx_races/409529
END:VEVENT
END:VCALENDAR
