BEGIN:VCALENDAR
VERSION:2.0
PRODID:icalendar-ruby
CALSCALE:GREGORIAN
METHOD:PUBLISH
BEGIN:VEVENT
DTSTAMP:20260423T195011Z
UID:8dc437f3-7233-46c5-827d-a2b8bc82a2d8
DTSTART;VALUE=DATE:20191022
DTEND;VALUE=DATE:20191022
DESCRIPTION:Circle City BMX
LOCATION:Westgate Park    100 Recreation Rd Dothan AL 36305 USA
SUMMARY:Warnicke Single
URL:/site/bmx_races/409530
END:VEVENT
END:VCALENDAR
