BEGIN:VCALENDAR
VERSION:2.0
PRODID:icalendar-ruby
CALSCALE:GREGORIAN
METHOD:PUBLISH
BEGIN:VEVENT
DTSTAMP:20260422T222142Z
UID:d151a1da-9137-43f1-b0de-f6efb9e577a5
DTSTART;VALUE=DATE:20190730
DTEND;VALUE=DATE:20190730
DESCRIPTION:Imagination Glen BMX
LOCATION:2190 N State Rd 149  Portage IN 46304 USA
SUMMARY:Practice
URL:/site/bmx_races/409543
END:VEVENT
END:VCALENDAR
