BEGIN:VCALENDAR
VERSION:2.0
PRODID:icalendar-ruby
CALSCALE:GREGORIAN
METHOD:PUBLISH
BEGIN:VEVENT
DTSTAMP:20260422T203706Z
UID:6fa4bc81-2f6d-4782-831b-64e5ddc8b709
DTSTART;VALUE=DATE:20190827
DTEND;VALUE=DATE:20190827
DESCRIPTION:Imagination Glen BMX
LOCATION:2190 N State Rd 149  Portage IN 46304 USA
SUMMARY:Practice
URL:/site/bmx_races/409547
END:VEVENT
END:VCALENDAR
