BEGIN:VCALENDAR
VERSION:2.0
PRODID:icalendar-ruby
CALSCALE:GREGORIAN
METHOD:PUBLISH
BEGIN:VEVENT
DTSTAMP:20260421T152954Z
UID:dbcce231-e824-4137-b1dc-54926349ed67
DTSTART;VALUE=DATE:20190603
DTEND;VALUE=DATE:20190603
DESCRIPTION:Rad Canyon BMX
LOCATION:5200 W 9800 S  West Jordan UT 84081 USA
SUMMARY:Practice
URL:/site/bmx_races/409632
END:VEVENT
END:VCALENDAR
