BEGIN:VCALENDAR
VERSION:2.0
PRODID:icalendar-ruby
CALSCALE:GREGORIAN
METHOD:PUBLISH
BEGIN:VEVENT
DTSTAMP:20260423T045123Z
UID:99647a7f-fe94-435b-bac1-497671d86e18
DTSTART;VALUE=DATE:20190823
DTEND;VALUE=DATE:20190823
DESCRIPTION:Can Am BMX
LOCATION:8345 County Park Rd  Goodells MI 48027 USA
SUMMARY:Race For Life Single
URL:/site/bmx_races/409666
END:VEVENT
END:VCALENDAR
