BEGIN:VCALENDAR
VERSION:2.0
PRODID:icalendar-ruby
CALSCALE:GREGORIAN
METHOD:PUBLISH
BEGIN:VEVENT
DTSTAMP:20260424T110155Z
UID:959ad60f-ba53-497f-94b3-d726f7bcc1a4
DTSTART;VALUE=DATE:20190907
DTEND;VALUE=DATE:20190907
DESCRIPTION:Winchester BMX
LOCATION:1001 E. Cork Street  Winchester VA 22601 USA
SUMMARY:Standard Single Single
URL:/site/bmx_races/409769
END:VEVENT
END:VCALENDAR
