BEGIN:VCALENDAR
VERSION:2.0
PRODID:icalendar-ruby
CALSCALE:GREGORIAN
METHOD:PUBLISH
BEGIN:VEVENT
DTSTAMP:20260422T225149Z
UID:ff2b34df-6af8-475d-bab6-e5559e37646a
DTSTART;VALUE=DATE:20190623
DTEND;VALUE=DATE:20190623
DESCRIPTION:Columbia Basin BMX
LOCATION:2002 Snyder St  Richland WA 99354 USA
SUMMARY:Olympic Single
URL:/site/bmx_races/409778
END:VEVENT
END:VCALENDAR
