BEGIN:VCALENDAR
VERSION:2.0
PRODID:icalendar-ruby
CALSCALE:GREGORIAN
METHOD:PUBLISH
BEGIN:VEVENT
DTSTAMP:20260426T015812Z
UID:f305fbaa-66f0-42f8-b26a-21d3e3daf114
DTSTART;VALUE=DATE:20190610
DTEND;VALUE=DATE:20190610
DESCRIPTION:Falcon BMX
LOCATION:Falcon Field 200 Westfield Road Meriden CT 06450 USA
SUMMARY:Practice
URL:/site/bmx_races/410036
END:VEVENT
END:VCALENDAR
