BEGIN:VCALENDAR
VERSION:2.0
PRODID:icalendar-ruby
CALSCALE:GREGORIAN
METHOD:PUBLISH
BEGIN:VEVENT
DTSTAMP:20260426T002449Z
UID:b0acb669-0e8e-4e74-b892-bcc97a3a938e
DTSTART;VALUE=DATE:20190722
DTEND;VALUE=DATE:20190722
DESCRIPTION:Falcon BMX
LOCATION:Falcon Field 200 Westfield Road Meriden CT 06450 USA
SUMMARY:Practice
URL:/site/bmx_races/410052
END:VEVENT
END:VCALENDAR
