BEGIN:VCALENDAR
VERSION:2.0
PRODID:icalendar-ruby
CALSCALE:GREGORIAN
METHOD:PUBLISH
BEGIN:VEVENT
DTSTAMP:20260425T224206Z
UID:800a8239-30a9-4f62-a6ad-621fe4c03182
DTSTART;VALUE=DATE:20190808
DTEND;VALUE=DATE:20190808
DESCRIPTION:Falcon BMX
LOCATION:Falcon Field 200 Westfield Road Meriden CT 06450 USA
SUMMARY:Standard Single Single
URL:/site/bmx_races/410059
END:VEVENT
END:VCALENDAR
