BEGIN:VCALENDAR
VERSION:2.0
PRODID:icalendar-ruby
CALSCALE:GREGORIAN
METHOD:PUBLISH
BEGIN:VEVENT
DTSTAMP:20260424T203954Z
UID:70fd1814-b79b-420f-9304-ea6b35b6863c
DTSTART;VALUE=DATE:20190518
DTEND;VALUE=DATE:20190518
DESCRIPTION:Twin Silo BMX
LOCATION:5400 Ziegler Rd.   Ft Collins CO 80528 USA
SUMMARY:Olympic Day Single
URL:/site/bmx_races/411296
END:VEVENT
END:VCALENDAR
