BEGIN:VCALENDAR
VERSION:2.0
PRODID:icalendar-ruby
CALSCALE:GREGORIAN
METHOD:PUBLISH
BEGIN:VEVENT
DTSTAMP:20260422T095748Z
UID:73e6776e-d183-4542-a144-9a9daba36f4f
DTSTART;VALUE=DATE:20190503
DTEND;VALUE=DATE:20190503
DESCRIPTION:South Towns BMX
LOCATION:2982 Lakeview Rd  Hamburg NY 14075 USA
SUMMARY:Local Race Single
URL:/site/bmx_races/411524
END:VEVENT
END:VCALENDAR
