BEGIN:VCALENDAR
VERSION:2.0
PRODID:icalendar-ruby
CALSCALE:GREGORIAN
METHOD:PUBLISH
BEGIN:VEVENT
DTSTAMP:20260422T095652Z
UID:d344d5a8-539d-4331-acd6-b9929239f69d
DTSTART;VALUE=DATE:20190522
DTEND;VALUE=DATE:20190522
DESCRIPTION:South Towns BMX
LOCATION:2982 Lakeview Rd  Hamburg NY 14075 USA
SUMMARY:Practice
URL:/site/bmx_races/411529
END:VEVENT
END:VCALENDAR
