BEGIN:VCALENDAR
VERSION:2.0
PRODID:icalendar-ruby
CALSCALE:GREGORIAN
METHOD:PUBLISH
BEGIN:VEVENT
DTSTAMP:20260422T095749Z
UID:3a0b2b79-ae4d-4aa7-9574-f1bea9689bfa
DTSTART;VALUE=DATE:20190529
DTEND;VALUE=DATE:20190529
DESCRIPTION:South Towns BMX
LOCATION:2982 Lakeview Rd  Hamburg NY 14075 USA
SUMMARY:Practice
URL:/site/bmx_races/411531
END:VEVENT
END:VCALENDAR
