BEGIN:VCALENDAR
VERSION:2.0
PRODID:icalendar-ruby
CALSCALE:GREGORIAN
METHOD:PUBLISH
BEGIN:VEVENT
DTSTAMP:20260424T005943Z
UID:ed483279-c307-4d92-8e4d-b29d136108cf
DTSTART;VALUE=DATE:20130616
DTEND;VALUE=DATE:20130616
DESCRIPTION:Cowtown BMX
LOCATION:447 Haltom Rd  Ft. Worth TX 76117 USA
SUMMARY:Local Race Single
URL:/site/bmx_races/41241
END:VEVENT
END:VCALENDAR
