BEGIN:VCALENDAR
VERSION:2.0
PRODID:icalendar-ruby
CALSCALE:GREGORIAN
METHOD:PUBLISH
BEGIN:VEVENT
DTSTAMP:20260422T070857Z
UID:fec0e7d2-d40a-4d83-8335-1f4333f0f7c9
DTSTART;VALUE=DATE:20190723
DTEND;VALUE=DATE:20190723
DESCRIPTION:Air Time BMX
LOCATION:5051 S Frankwood Ave  Reedley CA 93654 USA
SUMMARY:Local Race Single
URL:/site/bmx_races/412540
END:VEVENT
END:VCALENDAR
