BEGIN:VCALENDAR
VERSION:2.0
PRODID:icalendar-ruby
CALSCALE:GREGORIAN
METHOD:PUBLISH
BEGIN:VEVENT
DTSTAMP:20260422T000218Z
UID:bc2a2a7b-6b0d-4717-afd8-a192a2cace36
DTSTART;VALUE=DATE:20191203
DTEND;VALUE=DATE:20191203
DESCRIPTION:Air Time BMX
LOCATION:5051 S Frankwood Ave  Reedley CA 93654 USA
SUMMARY:Local Race Single
URL:/site/bmx_races/412578
END:VEVENT
END:VCALENDAR
