BEGIN:VCALENDAR
VERSION:2.0
PRODID:icalendar-ruby
CALSCALE:GREGORIAN
METHOD:PUBLISH
BEGIN:VEVENT
DTSTAMP:20260423T013410Z
UID:b5242ce2-b78d-4432-9f93-b245ce906d75
DTSTART;VALUE=DATE:20190809
DTEND;VALUE=DATE:20190809
DESCRIPTION:Star City BMX
LOCATION:101 Charleston St  Lincoln NE 68508 USA
SUMMARY:Standard Single Single
URL:/site/bmx_races/412680
END:VEVENT
END:VCALENDAR
