BEGIN:VCALENDAR
VERSION:2.0
PRODID:icalendar-ruby
CALSCALE:GREGORIAN
METHOD:PUBLISH
BEGIN:VEVENT
DTSTAMP:20260423T194955Z
UID:041298b7-4051-47f1-9b56-6f7ca85db23c
DTSTART;VALUE=DATE:20191015
DTEND;VALUE=DATE:20191015
DESCRIPTION:Circle City BMX
LOCATION:Westgate Park    100 Recreation Rd Dothan AL 36305 USA
SUMMARY:Practice
URL:/site/bmx_races/412857
END:VEVENT
END:VCALENDAR
