BEGIN:VCALENDAR
VERSION:2.0
PRODID:icalendar-ruby
CALSCALE:GREGORIAN
METHOD:PUBLISH
BEGIN:VEVENT
DTSTAMP:20260423T194929Z
UID:9c029093-efea-497a-8ef8-80a2c1a06075
DTSTART;VALUE=DATE:20191024
DTEND;VALUE=DATE:20191024
DESCRIPTION:Circle City BMX
LOCATION:Westgate Park    100 Recreation Rd Dothan AL 36305 USA
SUMMARY:Local Race Single
URL:/site/bmx_races/412859
END:VEVENT
END:VCALENDAR
