BEGIN:VCALENDAR
VERSION:2.0
PRODID:icalendar-ruby
CALSCALE:GREGORIAN
METHOD:PUBLISH
BEGIN:VEVENT
DTSTAMP:20260423T162841Z
UID:076ebf48-b8d3-4476-805f-6d4caa57256f
DTSTART;VALUE=DATE:20191210
DTEND;VALUE=DATE:20191210
DESCRIPTION:Circle City BMX
LOCATION:Westgate Park    100 Recreation Rd Dothan AL 36305 USA
SUMMARY:Practice
URL:/site/bmx_races/412872
END:VEVENT
END:VCALENDAR
