BEGIN:VCALENDAR
VERSION:2.0
PRODID:icalendar-ruby
CALSCALE:GREGORIAN
METHOD:PUBLISH
BEGIN:VEVENT
DTSTAMP:20260423T162843Z
UID:18591b72-f01f-44be-a1c9-aa9c0a92485c
DTSTART;VALUE=DATE:20191224
DTEND;VALUE=DATE:20191224
DESCRIPTION:Circle City BMX
LOCATION:Westgate Park    100 Recreation Rd Dothan AL 36305 USA
SUMMARY:Practice
URL:/site/bmx_races/412875
END:VEVENT
END:VCALENDAR
