BEGIN:VCALENDAR
VERSION:2.0
PRODID:icalendar-ruby
CALSCALE:GREGORIAN
METHOD:PUBLISH
BEGIN:VEVENT
DTSTAMP:20260423T045117Z
UID:793469bb-69bf-4801-8f75-dadbcd20de66
DTSTART;VALUE=DATE:20190818
DTEND;VALUE=DATE:20190818
DESCRIPTION:Circle City BMX
LOCATION:Westgate Park    100 Recreation Rd Dothan AL 36305 USA
SUMMARY:Standard Single Single
URL:/site/bmx_races/412894
END:VEVENT
END:VCALENDAR
