BEGIN:VCALENDAR
VERSION:2.0
PRODID:icalendar-ruby
CALSCALE:GREGORIAN
METHOD:PUBLISH
BEGIN:VEVENT
DTSTAMP:20260423T211551Z
UID:ff24bde2-84a6-4c10-b977-cc5b0be803e9
DTSTART;VALUE=DATE:20190929
DTEND;VALUE=DATE:20190929
DESCRIPTION:Circle City BMX
LOCATION:Westgate Park    100 Recreation Rd Dothan AL 36305 USA
SUMMARY:Local Race Single
URL:/site/bmx_races/412899
END:VEVENT
END:VCALENDAR
