BEGIN:VCALENDAR
VERSION:2.0
PRODID:icalendar-ruby
CALSCALE:GREGORIAN
METHOD:PUBLISH
BEGIN:VEVENT
DTSTAMP:20260424T190948Z
UID:046a5235-7ed2-4efb-886c-6a78567fd109
DTSTART;VALUE=DATE:20190316
DTEND;VALUE=DATE:20190316
DESCRIPTION:Rogue Valley BMX
LOCATION:Highland Drive  Medford OR 97504 USA
SUMMARY:Standard Single Single
URL:/site/bmx_races/412913
END:VEVENT
END:VCALENDAR
