BEGIN:VCALENDAR
VERSION:2.0
PRODID:icalendar-ruby
CALSCALE:GREGORIAN
METHOD:PUBLISH
BEGIN:VEVENT
DTSTAMP:20260423T043145Z
UID:2fca7011-ccfe-452e-9d5d-1b07dea55723
DTSTART;VALUE=DATE:20190803
DTEND;VALUE=DATE:20190803
DESCRIPTION:Snake River BMX
LOCATION:1860 East 65th South  Idaho Falls ID 83404 USA
SUMMARY:Earned Double
URL:/site/bmx_races/413489
END:VEVENT
END:VCALENDAR
