BEGIN:VCALENDAR
VERSION:2.0
PRODID:icalendar-ruby
CALSCALE:GREGORIAN
METHOD:PUBLISH
BEGIN:VEVENT
DTSTAMP:20260423T080523Z
UID:10eb6880-af61-4325-8493-2f3cdf52d985
DTSTART;VALUE=DATE:20190704
DTEND;VALUE=DATE:20190704
DESCRIPTION:Abbotsford BMX
LOCATION:32470 Haida Drive  Abbotsford BC V2T5A6 CAN
SUMMARY:Standard Single Single
URL:/site/bmx_races/413492
END:VEVENT
END:VCALENDAR
