BEGIN:VCALENDAR
VERSION:2.0
PRODID:icalendar-ruby
CALSCALE:GREGORIAN
METHOD:PUBLISH
BEGIN:VEVENT
DTSTAMP:20260423T080524Z
UID:303e3334-7a1e-4298-a450-897e66f79d2c
DTSTART;VALUE=DATE:20190718
DTEND;VALUE=DATE:20190718
DESCRIPTION:Abbotsford BMX
LOCATION:32470 Haida Drive  Abbotsford BC V2T5A6 CAN
SUMMARY:Standard Single Single
URL:/site/bmx_races/413493
END:VEVENT
END:VCALENDAR
