BEGIN:VCALENDAR
VERSION:2.0
PRODID:icalendar-ruby
CALSCALE:GREGORIAN
METHOD:PUBLISH
BEGIN:VEVENT
DTSTAMP:20260424T215829Z
UID:b9480a7d-f1a7-46f5-b670-e3cae216d7ba
DTSTART;VALUE=DATE:20190419
DTEND;VALUE=DATE:20190419
DESCRIPTION:Twin Silo BMX
LOCATION:5400 Ziegler Rd.   Ft Collins CO 80528 USA
SUMMARY:Clinic
URL:/site/bmx_races/413498
END:VEVENT
END:VCALENDAR
