BEGIN:VCALENDAR
VERSION:2.0
PRODID:icalendar-ruby
CALSCALE:GREGORIAN
METHOD:PUBLISH
BEGIN:VEVENT
DTSTAMP:20260423T080523Z
UID:66253bbc-0fc4-4719-9df1-51e16bb5d3ef
DTSTART;VALUE=DATE:20190729
DTEND;VALUE=DATE:20190729
DESCRIPTION:Abbotsford BMX
LOCATION:32470 Haida Drive  Abbotsford BC V2T5A6 CAN
SUMMARY:Practice
URL:/site/bmx_races/413650
END:VEVENT
END:VCALENDAR
