BEGIN:VCALENDAR
VERSION:2.0
PRODID:icalendar-ruby
CALSCALE:GREGORIAN
METHOD:PUBLISH
BEGIN:VEVENT
DTSTAMP:20260423T143755Z
UID:63fe2477-de0c-4176-992d-669168b1ff26
DTSTART;VALUE=DATE:20190612
DTEND;VALUE=DATE:20190612
DESCRIPTION:Rogue Valley BMX
LOCATION:Highland Drive  Medford OR 97504 USA
SUMMARY:Standard Single Single
URL:/site/bmx_races/413703
END:VEVENT
END:VCALENDAR
