BEGIN:VCALENDAR
VERSION:2.0
PRODID:icalendar-ruby
CALSCALE:GREGORIAN
METHOD:PUBLISH
BEGIN:VEVENT
DTSTAMP:20260425T022955Z
UID:0dadd383-d758-46a0-8c3e-bf7592f7808f
DTSTART;VALUE=DATE:20190731
DTEND;VALUE=DATE:20190731
DESCRIPTION:Rogue Valley BMX
LOCATION:Highland Drive  Medford OR 97504 USA
SUMMARY:Standard Single Single
URL:/site/bmx_races/413715
END:VEVENT
END:VCALENDAR
