BEGIN:VCALENDAR
VERSION:2.0
PRODID:icalendar-ruby
CALSCALE:GREGORIAN
METHOD:PUBLISH
BEGIN:VEVENT
DTSTAMP:20260426T015923Z
UID:3cc02227-2280-4fa2-a919-c9efdd665e2a
DTSTART;VALUE=DATE:20190527
DTEND;VALUE=DATE:20190527
DESCRIPTION:Red River BMX
LOCATION:1490 S. 42nd Street  Grand Forks ND 58201 USA
SUMMARY:Practice
URL:/site/bmx_races/414866
END:VEVENT
END:VCALENDAR
