BEGIN:VCALENDAR
VERSION:2.0
PRODID:icalendar-ruby
CALSCALE:GREGORIAN
METHOD:PUBLISH
BEGIN:VEVENT
DTSTAMP:20260425T205824Z
UID:4321484c-40b2-4e71-808d-a8d4287540db
DTSTART;VALUE=DATE:20190813
DTEND;VALUE=DATE:20190813
DESCRIPTION:Spokes BMX
LOCATION: 2550 W Bennett  Springfield MO 65807 USA
SUMMARY:Standard Single Single
URL:/site/bmx_races/414979
END:VEVENT
END:VCALENDAR
