BEGIN:VCALENDAR
VERSION:2.0
PRODID:icalendar-ruby
CALSCALE:GREGORIAN
METHOD:PUBLISH
BEGIN:VEVENT
DTSTAMP:20260425T022814Z
UID:9720ce3c-50fa-4330-8233-61eac4000c53
DTSTART;VALUE=DATE:20190526
DTEND;VALUE=DATE:20190526
DESCRIPTION:North Shore BMX
LOCATION:1301 Lillooet Road  North Vancouver BC V7J 3T7 CAN
SUMMARY:Clinic
URL:/site/bmx_races/415108
END:VEVENT
END:VCALENDAR
