BEGIN:VCALENDAR
VERSION:2.0
PRODID:icalendar-ruby
CALSCALE:GREGORIAN
METHOD:PUBLISH
BEGIN:VEVENT
DTSTAMP:20260422T163049Z
UID:fd29393f-fc2d-40e7-8c7d-0f0901fc99fd
DTSTART;VALUE=DATE:20190604
DTEND;VALUE=DATE:20190604
DESCRIPTION:80/35 BMX
LOCATION:1701 E Mc Kinley Ave  Des Moines IA 50320 USA
SUMMARY:Standard Single Single
URL:/site/bmx_races/415116
END:VEVENT
END:VCALENDAR
