BEGIN:VCALENDAR
VERSION:2.0
PRODID:icalendar-ruby
CALSCALE:GREGORIAN
METHOD:PUBLISH
BEGIN:VEVENT
DTSTAMP:20260425T035352Z
UID:73a1f3da-8a4d-4874-a4e1-ba05a0814093
DTSTART;VALUE=DATE:20190502
DTEND;VALUE=DATE:20190502
DESCRIPTION:Southern Maryland BMX
LOCATION:26600 Budds Creek Rd  Mechanicsville MD 20659 USA
SUMMARY:Clinic
URL:/site/bmx_races/415430
END:VEVENT
END:VCALENDAR
