BEGIN:VCALENDAR
VERSION:2.0
PRODID:icalendar-ruby
CALSCALE:GREGORIAN
METHOD:PUBLISH
BEGIN:VEVENT
DTSTAMP:20260422T070734Z
UID:9d3a18a2-332b-4aba-94f4-5767eabb11fd
DTSTART;VALUE=DATE:20190713
DTEND;VALUE=DATE:20190713
DESCRIPTION:Air Time BMX
LOCATION:5051 S Frankwood Ave  Reedley CA 93654 USA
SUMMARY:Local Race Single
URL:/site/bmx_races/415520
END:VEVENT
END:VCALENDAR
