BEGIN:VCALENDAR
VERSION:2.0
PRODID:icalendar-ruby
CALSCALE:GREGORIAN
METHOD:PUBLISH
BEGIN:VEVENT
DTSTAMP:20260422T150158Z
UID:27223993-98ca-4935-82eb-dba3ef8b1369
DTSTART;VALUE=DATE:20190420
DTEND;VALUE=DATE:20190420
DESCRIPTION:Yukon BMX
LOCATION:Taylor Park Sports Complex   410 N 11th St Yukon OK 73064 USA
SUMMARY:Standard Single Single
URL:/site/bmx_races/415685
END:VEVENT
END:VCALENDAR
