BEGIN:VCALENDAR
VERSION:2.0
PRODID:icalendar-ruby
CALSCALE:GREGORIAN
METHOD:PUBLISH
BEGIN:VEVENT
DTSTAMP:20260425T035555Z
UID:ae2a7e94-951c-40de-904f-bd86d7acc4b7
DTSTART;VALUE=DATE:20190507
DTEND;VALUE=DATE:20190507
DESCRIPTION:Southern Maryland BMX
LOCATION:26600 Budds Creek Rd  Mechanicsville MD 20659 USA
SUMMARY:Clinic
URL:/site/bmx_races/415696
END:VEVENT
END:VCALENDAR
