BEGIN:VCALENDAR
VERSION:2.0
PRODID:icalendar-ruby
CALSCALE:GREGORIAN
METHOD:PUBLISH
BEGIN:VEVENT
DTSTAMP:20260422T070825Z
UID:6794afd1-dfc0-46b7-9151-e41d65be66da
DTSTART;VALUE=DATE:20191019
DTEND;VALUE=DATE:20191019
DESCRIPTION:Cargill Park BMX
LOCATION:2800 Cargill Drive  Shreveport LA 71108 USA
SUMMARY:Standard Single Single
URL:/site/bmx_races/416157
END:VEVENT
END:VCALENDAR
