BEGIN:VCALENDAR
VERSION:2.0
PRODID:icalendar-ruby
CALSCALE:GREGORIAN
METHOD:PUBLISH
BEGIN:VEVENT
DTSTAMP:20260425T153327Z
UID:70dc712a-d780-418e-a1ac-20856e458f7a
DTSTART;VALUE=DATE:20191125
DTEND;VALUE=DATE:20191125
DESCRIPTION:Yuma BMX
LOCATION:3067 S Pacific Ave  Yuma AZ 85364 USA
SUMMARY:Local Race Single
URL:/site/bmx_races/416468
END:VEVENT
END:VCALENDAR
