BEGIN:VCALENDAR
VERSION:2.0
PRODID:icalendar-ruby
CALSCALE:GREGORIAN
METHOD:PUBLISH
BEGIN:VEVENT
DTSTAMP:20260425T134705Z
UID:e9ec4587-210c-498c-80fc-5a75ce5dae31
DTSTART;VALUE=DATE:20191211
DTEND;VALUE=DATE:20191211
DESCRIPTION:Yuma BMX
LOCATION:3067 S Pacific Ave  Yuma AZ 85364 USA
SUMMARY:Local Race Single
URL:/site/bmx_races/416521
END:VEVENT
END:VCALENDAR
