BEGIN:VCALENDAR
VERSION:2.0
PRODID:icalendar-ruby
CALSCALE:GREGORIAN
METHOD:PUBLISH
BEGIN:VEVENT
DTSTAMP:20260423T021627Z
UID:ac9c448b-16bb-426b-ba5d-693f775e8e0a
DTSTART;VALUE=DATE:20190624
DTEND;VALUE=DATE:20190624
DESCRIPTION:Spokane BMX
LOCATION:5701 N Assembly St  Spokane WA 99205 USA
SUMMARY:Clinic
URL:/site/bmx_races/417319
END:VEVENT
END:VCALENDAR
